{"text_format":"3","workbook":"xlsx","n_sheets":13,"sheets":["表紙","分析パターン","Sheet1","自分グラフ","相手グラフ","計算","設問","Critical Parent","Nurturing Parent","Adult","Free Child","Adapted Child","Sheet2"],"not_rendered":{"charts":14,"images":1,"macros":1,"defined_names":47},"unopened":[{"sheet":"自分グラフ","index":3,"reason":"not_a_worksheet"},{"sheet":"相手グラフ","index":4,"reason":"not_a_worksheet"}],"read":"whole","date_system":"1900"}

{"sheet":"表紙","index":0,"n_rows":0,"n_cols":0,"rows_kept":0}

{"sheet":"分析パターン","index":1,"n_rows":0,"n_cols":0,"rows_kept":0}

{"sheet":"Sheet1","index":2,"n_rows":27,"n_cols":8,"rows_kept":27}
["区分","理想的",null,"区分","合理的",null,"区分","自分を抑える"]
["CP",25,null,"CP",5,null,"CP",2.2]
["NP",30,null,"NP",17.3,null,"NP",26]
["A",20.6,null,"A",29.2,null,"A",2.2]
["FC",11.4,null,"FC",17,null,"FC",11.4]
["AC",5,null,"AC",5,null,"AC",22.3]
[]
["区分","自己主張",null,"区分","葛藤",null,"区分","癇癪持ち"]
["CP",24.7,null,"CP",27.2,null,"CP",8.1]
["NP",5.5,null,"NP",16.4,null,"NP",2.2]
["A",15.8,null,"A",4.7,null,"A",7.6]
["FC",25.1,null,"FC",14,null,"FC",12.2]
["AC",4.7,null,"AC",25.1,null,"AC",17]
[]
["区分","自己苦悩",null,"区分","明るい",null,"区分","ひとりよがり"]
["CP",27.8,null,"CP",5,null,"CP",27.6]
["NP",2.2,null,"NP",27.6,null,"NP",20.9]
["A",28,null,"A",2.4,null,"A",14.2]
["FC",2,null,"FC",27.8,null,"FC",7.5]
["AC",27.6,null,"AC",5.7,null,"AC",1.8]
[]
["区分","人に頼る"]
["CP",2.6]
["NP",8.5]
["A",14.8]
["FC",21.3]
["AC",27.4]

{"sheet":"計算","index":5,"n_rows":76,"n_cols":8,"rows_kept":76}
["整理№","区分","自分","相手",null,"区分","自分","相手"]
[7,"FC",{"$f":"IF(設問!$G2=\"\",\"\",IF(設問!$G2=\"はい\",2,IF(設問!$G2=\"いいえ\",0,1)))","v":""},{"$f":"IF(設問!$K2=\"\",\"\",IF(設問!$K2=\"はい\",2,IF(設問!$K2=\"いいえ\",0,1)))","v":""},null,"CP",{"$f":"SUMIF($B$2:$B$76,$F$2,$C$2:$C$76)","v":0},{"$f":"SUMIF($B$2:$B$76,$F$2,$D$2:$D$76)","v":0}]
[27,"CP",{"$f":"IF(設問!$G3=\"\",\"\",IF(設問!$G3=\"はい\",2,IF(設問!$G3=\"いいえ\",0,1)))","v":""},{"$f":"IF(設問!$K3=\"\",\"\",IF(設問!$K3=\"はい\",2,IF(設問!$K3=\"いいえ\",0,1)))","v":""},null,"NP",{"$f":"SUMIF($B$2:$B$76,$F$3,$C$2:$C$76)","v":0},{"$f":"SUMIF($B$2:$B$76,$F$3,$D$2:$D$76)","v":0}]
[31,"AC",{"$f":"IF(設問!$G4=\"\",\"\",IF(設問!$G4=\"はい\",2,IF(設問!$G4=\"いいえ\",0,1)))","v":""},{"$f":"IF(設問!$K4=\"\",\"\",IF(設問!$K4=\"はい\",2,IF(設問!$K4=\"いいえ\",0,1)))","v":""},null,"A",{"$f":"SUMIF($B$2:$B$76,$F$4,$C$2:$C$76)","v":0},{"$f":"SUMIF($B$2:$B$76,$F$4,$D$2:$D$76)","v":0}]
[33,"NP",{"$f":"IF(設問!$G5=\"\",\"\",IF(設問!$G5=\"はい\",2,IF(設問!$G5=\"いいえ\",0,1)))","v":""},{"$f":"IF(設問!$K5=\"\",\"\",IF(設問!$K5=\"はい\",2,IF(設問!$K5=\"いいえ\",0,1)))","v":""},null,"FC",{"$f":"SUMIF($B$2:$B$76,$F$5,$C$2:$C$76)","v":0},{"$f":"SUMIF($B$2:$B$76,$F$5,$D$2:$D$76)","v":0}]
[38,"FC",{"$f":"IF(設問!$G6=\"\",\"\",IF(設問!$G6=\"はい\",2,IF(設問!$G6=\"いいえ\",0,1)))","v":""},{"$f":"IF(設問!$K6=\"\",\"\",IF(設問!$K6=\"はい\",2,IF(設問!$K6=\"いいえ\",0,1)))","v":""},null,"AC",{"$f":"SUMIF($B$2:$B$76,$F$6,$C$2:$C$76)","v":0},{"$f":"SUMIF($B$2:$B$76,$F$6,$D$2:$D$76)","v":0}]
[43,"FC",{"$f":"IF(設問!$G7=\"\",\"\",IF(設問!$G7=\"はい\",2,IF(設問!$G7=\"いいえ\",0,1)))","v":""},{"$f":"IF(設問!$K7=\"\",\"\",IF(設問!$K7=\"はい\",2,IF(設問!$K7=\"いいえ\",0,1)))","v":""}]
[45,"A",{"$f":"IF(設問!$G8=\"\",\"\",IF(設問!$G8=\"はい\",2,IF(設問!$G8=\"いいえ\",0,1)))","v":""},{"$f":"IF(設問!$K8=\"\",\"\",IF(設問!$K8=\"はい\",2,IF(設問!$K8=\"いいえ\",0,1)))","v":""}]
[52,"NP",{"$f":"IF(設問!$G9=\"\",\"\",IF(設問!$G9=\"はい\",2,IF(設問!$G9=\"いいえ\",0,1)))","v":""},{"$f":"IF(設問!$K9=\"\",\"\",IF(設問!$K9=\"はい\",2,IF(設問!$K9=\"いいえ\",0,1)))","v":""}]
[58,"FC",{"$f":"IF(設問!$G10=\"\",\"\",IF(設問!$G10=\"はい\",2,IF(設問!$G10=\"いいえ\",0,1)))","v":""},{"$f":"IF(設問!$K10=\"\",\"\",IF(設問!$K10=\"はい\",2,IF(設問!$K10=\"いいえ\",0,1)))","v":""}]
[60,"AC",{"$f":"IF(設問!$G11=\"\",\"\",IF(設問!$G11=\"はい\",2,IF(設問!$G11=\"いいえ\",0,1)))","v":""},{"$f":"IF(設問!$K11=\"\",\"\",IF(設問!$K11=\"はい\",2,IF(設問!$K11=\"いいえ\",0,1)))","v":""}]
[61,"NP",{"$f":"IF(設問!$G12=\"\",\"\",IF(設問!$G12=\"はい\",2,IF(設問!$G12=\"いいえ\",0,1)))","v":""},{"$f":"IF(設問!$K12=\"\",\"\",IF(設問!$K12=\"はい\",2,IF(設問!$K12=\"いいえ\",0,1)))","v":""}]
[69,"A",{"$f":"IF(設問!$G13=\"\",\"\",IF(設問!$G13=\"はい\",2,IF(設問!$G13=\"いいえ\",0,1)))","v":""},{"$f":"IF(設問!$K13=\"\",\"\",IF(設問!$K13=\"はい\",2,IF(設問!$K13=\"いいえ\",0,1)))","v":""}]
[80,"CP",{"$f":"IF(設問!$G14=\"\",\"\",IF(設問!$G14=\"はい\",2,IF(設問!$G14=\"いいえ\",0,1)))","v":""},{"$f":"IF(設問!$K14=\"\",\"\",IF(設問!$K14=\"はい\",2,IF(設問!$K14=\"いいえ\",0,1)))","v":""}]
[83,"CP",{"$f":"IF(設問!$G15=\"\",\"\",IF(設問!$G15=\"はい\",2,IF(設問!$G15=\"いいえ\",0,1)))","v":""},{"$f":"IF(設問!$K15=\"\",\"\",IF(設問!$K15=\"はい\",2,IF(設問!$K15=\"いいえ\",0,1)))","v":""}]
[104,"CP",{"$f":"IF(設問!$G16=\"\",\"\",IF(設問!$G16=\"はい\",2,IF(設問!$G16=\"いいえ\",0,1)))","v":""},{"$f":"IF(設問!$K16=\"\",\"\",IF(設問!$K16=\"はい\",2,IF(設問!$K16=\"いいえ\",0,1)))","v":""}]
[120,"A",{"$f":"IF(設問!$G17=\"\",\"\",IF(設問!$G17=\"はい\",2,IF(設問!$G17=\"いいえ\",0,1)))","v":""},{"$f":"IF(設問!$K17=\"\",\"\",IF(設問!$K17=\"はい\",2,IF(設問!$K17=\"いいえ\",0,1)))","v":""}]
[122,"NP",{"$f":"IF(設問!$G18=\"\",\"\",IF(設問!$G18=\"はい\",2,IF(設問!$G18=\"いいえ\",0,1)))","v":""},{"$f":"IF(設問!$K18=\"\",\"\",IF(設問!$K18=\"はい\",2,IF(設問!$K18=\"いいえ\",0,1)))","v":""}]
[124,"NP",{"$f":"IF(設問!$G19=\"\",\"\",IF(設問!$G19=\"はい\",2,IF(設問!$G19=\"いいえ\",0,1)))","v":""},{"$f":"IF(設問!$K19=\"\",\"\",IF(設問!$K19=\"はい\",2,IF(設問!$K19=\"いいえ\",0,1)))","v":""}]
[131,"AC",{"$f":"IF(設問!$G20=\"\",\"\",IF(設問!$G20=\"はい\",2,IF(設問!$G20=\"いいえ\",0,1)))","v":""},{"$f":"IF(設問!$K20=\"\",\"\",IF(設問!$K20=\"はい\",2,IF(設問!$K20=\"いいえ\",0,1)))","v":""}]
[132,"FC",{"$f":"IF(設問!$G21=\"\",\"\",IF(設問!$G21=\"はい\",2,IF(設問!$G21=\"いいえ\",0,1)))","v":""},{"$f":"IF(設問!$K21=\"\",\"\",IF(設問!$K21=\"はい\",2,IF(設問!$K21=\"いいえ\",0,1)))","v":""}]
[136,"A",{"$f":"IF(設問!$G22=\"\",\"\",IF(設問!$G22=\"はい\",2,IF(設問!$G22=\"いいえ\",0,1)))","v":""},{"$f":"IF(設問!$K22=\"\",\"\",IF(設問!$K22=\"はい\",2,IF(設問!$K22=\"いいえ\",0,1)))","v":""}]
[140,"AC",{"$f":"IF(設問!$G23=\"\",\"\",IF(設問!$G23=\"はい\",2,IF(設問!$G23=\"いいえ\",0,1)))","v":""},{"$f":"IF(設問!$K23=\"\",\"\",IF(設問!$K23=\"はい\",2,IF(設問!$K23=\"いいえ\",0,1)))","v":""}]
[141,"AC",{"$f":"IF(設問!$G24=\"\",\"\",IF(設問!$G24=\"はい\",2,IF(設問!$G24=\"いいえ\",0,1)))","v":""},{"$f":"IF(設問!$K24=\"\",\"\",IF(設問!$K24=\"はい\",2,IF(設問!$K24=\"いいえ\",0,1)))","v":""}]
[142,"FC",{"$f":"IF(設問!$G25=\"\",\"\",IF(設問!$G25=\"はい\",2,IF(設問!$G25=\"いいえ\",0,1)))","v":""},{"$f":"IF(設問!$K25=\"\",\"\",IF(設問!$K25=\"はい\",2,IF(設問!$K25=\"いいえ\",0,1)))","v":""}]
[162,"FC",{"$f":"IF(設問!$G26=\"\",\"\",IF(設問!$G26=\"はい\",2,IF(設問!$G26=\"いいえ\",0,1)))","v":""},{"$f":"IF(設問!$K26=\"\",\"\",IF(設問!$K26=\"はい\",2,IF(設問!$K26=\"いいえ\",0,1)))","v":""}]
[169,"FC",{"$f":"IF(設問!$G27=\"\",\"\",IF(設問!$G27=\"はい\",2,IF(設問!$G27=\"いいえ\",0,1)))","v":""},{"$f":"IF(設問!$K27=\"\",\"\",IF(設問!$K27=\"はい\",2,IF(設問!$K27=\"いいえ\",0,1)))","v":""}]
[172,"CP",{"$f":"IF(設問!$G28=\"\",\"\",IF(設問!$G28=\"はい\",2,IF(設問!$G28=\"いいえ\",0,1)))","v":""},{"$f":"IF(設問!$K28=\"\",\"\",IF(設問!$K28=\"はい\",2,IF(設問!$K28=\"いいえ\",0,1)))","v":""}]
[181,"CP",{"$f":"IF(設問!$G29=\"\",\"\",IF(設問!$G29=\"はい\",2,IF(設問!$G29=\"いいえ\",0,1)))","v":""},{"$f":"IF(設問!$K29=\"\",\"\",IF(設問!$K29=\"はい\",2,IF(設問!$K29=\"いいえ\",0,1)))","v":""}]
[188,"A",{"$f":"IF(設問!$G30=\"\",\"\",IF(設問!$G30=\"はい\",2,IF(設問!$G30=\"いいえ\",0,1)))","v":""},{"$f":"IF(設問!$K30=\"\",\"\",IF(設問!$K30=\"はい\",2,IF(設問!$K30=\"いいえ\",0,1)))","v":""}]
[190,"FC",{"$f":"IF(設問!$G31=\"\",\"\",IF(設問!$G31=\"はい\",2,IF(設問!$G31=\"いいえ\",0,1)))","v":""},{"$f":"IF(設問!$K31=\"\",\"\",IF(設問!$K31=\"はい\",2,IF(設問!$K31=\"いいえ\",0,1)))","v":""}]
[195,"CP",{"$f":"IF(設問!$G32=\"\",\"\",IF(設問!$G32=\"はい\",2,IF(設問!$G32=\"いいえ\",0,1)))","v":""},{"$f":"IF(設問!$K32=\"\",\"\",IF(設問!$K32=\"はい\",2,IF(設問!$K32=\"いいえ\",0,1)))","v":""}]
[199,"CP",{"$f":"IF(設問!$G33=\"\",\"\",IF(設問!$G33=\"はい\",2,IF(設問!$G33=\"いいえ\",0,1)))","v":""},{"$f":"IF(設問!$K33=\"\",\"\",IF(設問!$K33=\"はい\",2,IF(設問!$K33=\"いいえ\",0,1)))","v":""}]
[218,"CP",{"$f":"IF(設問!$G34=\"\",\"\",IF(設問!$G34=\"はい\",2,IF(設問!$G34=\"いいえ\",0,1)))","v":""},{"$f":"IF(設問!$K34=\"\",\"\",IF(設問!$K34=\"はい\",2,IF(設問!$K34=\"いいえ\",0,1)))","v":""}]
[232,"CP",{"$f":"IF(設問!$G35=\"\",\"\",IF(設問!$G35=\"はい\",2,IF(設問!$G35=\"いいえ\",0,1)))","v":""},{"$f":"IF(設問!$K35=\"\",\"\",IF(設問!$K35=\"はい\",2,IF(設問!$K35=\"いいえ\",0,1)))","v":""}]
[263,"CP",{"$f":"IF(設問!$G36=\"\",\"\",IF(設問!$G36=\"はい\",2,IF(設問!$G36=\"いいえ\",0,1)))","v":""},{"$f":"IF(設問!$K36=\"\",\"\",IF(設問!$K36=\"はい\",2,IF(設問!$K36=\"いいえ\",0,1)))","v":""}]
[266,"FC",{"$f":"IF(設問!$G37=\"\",\"\",IF(設問!$G37=\"はい\",2,IF(設問!$G37=\"いいえ\",0,1)))","v":""},{"$f":"IF(設問!$K37=\"\",\"\",IF(設問!$K37=\"はい\",2,IF(設問!$K37=\"いいえ\",0,1)))","v":""}]
[267,"AC",{"$f":"IF(設問!$G38=\"\",\"\",IF(設問!$G38=\"はい\",2,IF(設問!$G38=\"いいえ\",0,1)))","v":""},{"$f":"IF(設問!$K38=\"\",\"\",IF(設問!$K38=\"はい\",2,IF(設問!$K38=\"いいえ\",0,1)))","v":""}]
[269,"FC",{"$f":"IF(設問!$G39=\"\",\"\",IF(設問!$G39=\"はい\",2,IF(設問!$G39=\"いいえ\",0,1)))","v":""},{"$f":"IF(設問!$K39=\"\",\"\",IF(設問!$K39=\"はい\",2,IF(設問!$K39=\"いいえ\",0,1)))","v":""}]
[283,"CP",{"$f":"IF(設問!$G40=\"\",\"\",IF(設問!$G40=\"はい\",2,IF(設問!$G40=\"いいえ\",0,1)))","v":""},{"$f":"IF(設問!$K40=\"\",\"\",IF(設問!$K40=\"はい\",2,IF(設問!$K40=\"いいえ\",0,1)))","v":""}]
[293,"CP",{"$f":"IF(設問!$G41=\"\",\"\",IF(設問!$G41=\"はい\",2,IF(設問!$G41=\"いいえ\",0,1)))","v":""},{"$f":"IF(設問!$K41=\"\",\"\",IF(設問!$K41=\"はい\",2,IF(設問!$K41=\"いいえ\",0,1)))","v":""}]
[296,"FC",{"$f":"IF(設問!$G42=\"\",\"\",IF(設問!$G42=\"はい\",2,IF(設問!$G42=\"いいえ\",0,1)))","v":""},{"$f":"IF(設問!$K42=\"\",\"\",IF(設問!$K42=\"はい\",2,IF(設問!$K42=\"いいえ\",0,1)))","v":""}]
[302,"FC",{"$f":"IF(設問!$G43=\"\",\"\",IF(設問!$G43=\"はい\",2,IF(設問!$G43=\"いいえ\",0,1)))","v":""},{"$f":"IF(設問!$K43=\"\",\"\",IF(設問!$K43=\"はい\",2,IF(設問!$K43=\"いいえ\",0,1)))","v":""}]
[304,"A",{"$f":"IF(設問!$G44=\"\",\"\",IF(設問!$G44=\"はい\",2,IF(設問!$G44=\"いいえ\",0,1)))","v":""},{"$f":"IF(設問!$K44=\"\",\"\",IF(設問!$K44=\"はい\",2,IF(設問!$K44=\"いいえ\",0,1)))","v":""}]
[313,"NP",{"$f":"IF(設問!$G45=\"\",\"\",IF(設問!$G45=\"はい\",2,IF(設問!$G45=\"いいえ\",0,1)))","v":""},{"$f":"IF(設問!$K45=\"\",\"\",IF(設問!$K45=\"はい\",2,IF(設問!$K45=\"いいえ\",0,1)))","v":""}]
[326,"AC",{"$f":"IF(設問!$G46=\"\",\"\",IF(設問!$G46=\"はい\",2,IF(設問!$G46=\"いいえ\",0,1)))","v":""},{"$f":"IF(設問!$K46=\"\",\"\",IF(設問!$K46=\"はい\",2,IF(設問!$K46=\"いいえ\",0,1)))","v":""}]
[334,"FC",{"$f":"IF(設問!$G47=\"\",\"\",IF(設問!$G47=\"はい\",2,IF(設問!$G47=\"いいえ\",0,1)))","v":""},{"$f":"IF(設問!$K47=\"\",\"\",IF(設問!$K47=\"はい\",2,IF(設問!$K47=\"いいえ\",0,1)))","v":""}]
[347,"FC",{"$f":"IF(設問!$G48=\"\",\"\",IF(設問!$G48=\"はい\",2,IF(設問!$G48=\"いいえ\",0,1)))","v":""},{"$f":"IF(設問!$K48=\"\",\"\",IF(設問!$K48=\"はい\",2,IF(設問!$K48=\"いいえ\",0,1)))","v":""}]
[354,"A",{"$f":"IF(設問!$G49=\"\",\"\",IF(設問!$G49=\"はい\",2,IF(設問!$G49=\"いいえ\",0,1)))","v":""},{"$f":"IF(設問!$K49=\"\",\"\",IF(設問!$K49=\"はい\",2,IF(設問!$K49=\"いいえ\",0,1)))","v":""}]
[370,"CP",{"$f":"IF(設問!$G50=\"\",\"\",IF(設問!$G50=\"はい\",2,IF(設問!$G50=\"いいえ\",0,1)))","v":""},{"$f":"IF(設問!$K50=\"\",\"\",IF(設問!$K50=\"はい\",2,IF(設問!$K50=\"いいえ\",0,1)))","v":""}]
[371,"AC",{"$f":"IF(設問!$G51=\"\",\"\",IF(設問!$G51=\"はい\",2,IF(設問!$G51=\"いいえ\",0,1)))","v":""},{"$f":"IF(設問!$K51=\"\",\"\",IF(設問!$K51=\"はい\",2,IF(設問!$K51=\"いいえ\",0,1)))","v":""}]
[374,"AC",{"$f":"IF(設問!$G52=\"\",\"\",IF(設問!$G52=\"はい\",2,IF(設問!$G52=\"いいえ\",0,1)))","v":""},{"$f":"IF(設問!$K52=\"\",\"\",IF(設問!$K52=\"はい\",2,IF(設問!$K52=\"いいえ\",0,1)))","v":""}]
[375,"A",{"$f":"IF(設問!$G53=\"\",\"\",IF(設問!$G53=\"はい\",2,IF(設問!$G53=\"いいえ\",0,1)))","v":""},{"$f":"IF(設問!$K53=\"\",\"\",IF(設問!$K53=\"はい\",2,IF(設問!$K53=\"いいえ\",0,1)))","v":""}]
[378,"A",{"$f":"IF(設問!$G54=\"\",\"\",IF(設問!$G54=\"はい\",2,IF(設問!$G54=\"いいえ\",0,1)))","v":""},{"$f":"IF(設問!$K54=\"\",\"\",IF(設問!$K54=\"はい\",2,IF(設問!$K54=\"いいえ\",0,1)))","v":""}]
[379,"AC",{"$f":"IF(設問!$G55=\"\",\"\",IF(設問!$G55=\"はい\",2,IF(設問!$G55=\"いいえ\",0,1)))","v":""},{"$f":"IF(設問!$K55=\"\",\"\",IF(設問!$K55=\"はい\",2,IF(設問!$K55=\"いいえ\",0,1)))","v":""}]
[379,"AC",{"$f":"IF(設問!$G56=\"\",\"\",IF(設問!$G56=\"はい\",2,IF(設問!$G56=\"いいえ\",0,1)))","v":""},{"$f":"IF(設問!$K56=\"\",\"\",IF(設問!$K56=\"はい\",2,IF(設問!$K56=\"いいえ\",0,1)))","v":""}]
[381,"CP",{"$f":"IF(設問!$G57=\"\",\"\",IF(設問!$G57=\"はい\",2,IF(設問!$G57=\"いいえ\",0,1)))","v":""},{"$f":"IF(設問!$K57=\"\",\"\",IF(設問!$K57=\"はい\",2,IF(設問!$K57=\"いいえ\",0,1)))","v":""}]
[382,"AC",{"$f":"IF(設問!$G58=\"\",\"\",IF(設問!$G58=\"はい\",2,IF(設問!$G58=\"いいえ\",0,1)))","v":""},{"$f":"IF(設問!$K58=\"\",\"\",IF(設問!$K58=\"はい\",2,IF(設問!$K58=\"いいえ\",0,1)))","v":""}]
[394,"NP",{"$f":"IF(設問!$G59=\"\",\"\",IF(設問!$G59=\"はい\",2,IF(設問!$G59=\"いいえ\",0,1)))","v":""},{"$f":"IF(設問!$K59=\"\",\"\",IF(設問!$K59=\"はい\",2,IF(設問!$K59=\"いいえ\",0,1)))","v":""}]
[409,"A",{"$f":"IF(設問!$G60=\"\",\"\",IF(設問!$G60=\"はい\",2,IF(設問!$G60=\"いいえ\",0,1)))","v":""},{"$f":"IF(設問!$K60=\"\",\"\",IF(設問!$K60=\"はい\",2,IF(設問!$K60=\"いいえ\",0,1)))","v":""}]
[422,"AC",{"$f":"IF(設問!$G61=\"\",\"\",IF(設問!$G61=\"はい\",2,IF(設問!$G61=\"いいえ\",0,1)))","v":""},{"$f":"IF(設問!$K61=\"\",\"\",IF(設問!$K61=\"はい\",2,IF(設問!$K61=\"いいえ\",0,1)))","v":""}]
[449,"A",{"$f":"IF(設問!$G62=\"\",\"\",IF(設問!$G62=\"はい\",2,IF(設問!$G62=\"いいえ\",0,1)))","v":""},{"$f":"IF(設問!$K62=\"\",\"\",IF(設問!$K62=\"はい\",2,IF(設問!$K62=\"いいえ\",0,1)))","v":""}]
[469,"NP",{"$f":"IF(設問!$G63=\"\",\"\",IF(設問!$G63=\"はい\",2,IF(設問!$G63=\"いいえ\",0,1)))","v":""},{"$f":"IF(設問!$K63=\"\",\"\",IF(設問!$K63=\"はい\",2,IF(設問!$K63=\"いいえ\",0,1)))","v":""}]
[472,"NP",{"$f":"IF(設問!$G64=\"\",\"\",IF(設問!$G64=\"はい\",2,IF(設問!$G64=\"いいえ\",0,1)))","v":""},{"$f":"IF(設問!$K64=\"\",\"\",IF(設問!$K64=\"はい\",2,IF(設問!$K64=\"いいえ\",0,1)))","v":""}]
[478,"NP",{"$f":"IF(設問!$G65=\"\",\"\",IF(設問!$G65=\"はい\",2,IF(設問!$G65=\"いいえ\",0,1)))","v":""},{"$f":"IF(設問!$K65=\"\",\"\",IF(設問!$K65=\"はい\",2,IF(設問!$K65=\"いいえ\",0,1)))","v":""}]
[481,"NP",{"$f":"IF(設問!$G66=\"\",\"\",IF(設問!$G66=\"はい\",2,IF(設問!$G66=\"いいえ\",0,1)))","v":""},{"$f":"IF(設問!$K66=\"\",\"\",IF(設問!$K66=\"はい\",2,IF(設問!$K66=\"いいえ\",0,1)))","v":""}]
[482,"AC",{"$f":"IF(設問!$G67=\"\",\"\",IF(設問!$G67=\"はい\",2,IF(設問!$G67=\"いいえ\",0,1)))","v":""},{"$f":"IF(設問!$K67=\"\",\"\",IF(設問!$K67=\"はい\",2,IF(設問!$K67=\"いいえ\",0,1)))","v":""}]
[483,"NP",{"$f":"IF(設問!$G68=\"\",\"\",IF(設問!$G68=\"はい\",2,IF(設問!$G68=\"いいえ\",0,1)))","v":""},{"$f":"IF(設問!$K68=\"\",\"\",IF(設問!$K68=\"はい\",2,IF(設問!$K68=\"いいえ\",0,1)))","v":""}]
[501,"A",{"$f":"IF(設問!$G69=\"\",\"\",IF(設問!$G69=\"はい\",2,IF(設問!$G69=\"いいえ\",0,1)))","v":""},{"$f":"IF(設問!$K69=\"\",\"\",IF(設問!$K69=\"はい\",2,IF(設問!$K69=\"いいえ\",0,1)))","v":""}]
[512,"A",{"$f":"IF(設問!$G70=\"\",\"\",IF(設問!$G70=\"はい\",2,IF(設問!$G70=\"いいえ\",0,1)))","v":""},{"$f":"IF(設問!$K70=\"\",\"\",IF(設問!$K70=\"はい\",2,IF(設問!$K70=\"いいえ\",0,1)))","v":""}]
[523,"AC",{"$f":"IF(設問!$G71=\"\",\"\",IF(設問!$G71=\"はい\",2,IF(設問!$G71=\"いいえ\",0,1)))","v":""},{"$f":"IF(設問!$K71=\"\",\"\",IF(設問!$K71=\"はい\",2,IF(設問!$K71=\"いいえ\",0,1)))","v":""}]
[527,"A",{"$f":"IF(設問!$G72=\"\",\"\",IF(設問!$G72=\"はい\",2,IF(設問!$G72=\"いいえ\",0,1)))","v":""},{"$f":"IF(設問!$K72=\"\",\"\",IF(設問!$K72=\"はい\",2,IF(設問!$K72=\"いいえ\",0,1)))","v":""}]
[528,"NP",{"$f":"IF(設問!$G73=\"\",\"\",IF(設問!$G73=\"はい\",2,IF(設問!$G73=\"いいえ\",0,1)))","v":""},{"$f":"IF(設問!$K73=\"\",\"\",IF(設問!$K73=\"はい\",2,IF(設問!$K73=\"いいえ\",0,1)))","v":""}]
[533,"A",{"$f":"IF(設問!$G74=\"\",\"\",IF(設問!$G74=\"はい\",2,IF(設問!$G74=\"いいえ\",0,1)))","v":""},{"$f":"IF(設問!$K74=\"\",\"\",IF(設問!$K74=\"はい\",2,IF(設問!$K74=\"いいえ\",0,1)))","v":""}]
[627,"NP",{"$f":"IF(設問!$G75=\"\",\"\",IF(設問!$G75=\"はい\",2,IF(設問!$G75=\"いいえ\",0,1)))","v":""},{"$f":"IF(設問!$K75=\"\",\"\",IF(設問!$K75=\"はい\",2,IF(設問!$K75=\"いいえ\",0,1)))","v":""}]
[628,"NP",{"$f":"IF(設問!$G76=\"\",\"\",IF(設問!$G76=\"はい\",2,IF(設問!$G76=\"いいえ\",0,1)))","v":""},{"$f":"IF(設問!$K76=\"\",\"\",IF(設問!$K76=\"はい\",2,IF(設問!$K76=\"いいえ\",0,1)))","v":""}]

{"sheet":"設問","index":6,"n_rows":76,"n_cols":11,"rows_kept":76,"merged":[[0,3,0,5],[0,7,0,9]]}
[null,null,"質問","今の私",null,null,"回答","相手",null,null,"回答"]
[7,1,"ちょっと遠慮が足りないと思いますか？","はい","いいえ","両方",null,"はい","いいえ","両方"]
[27,2,"自分が正しいと感じたことは人にもやってもらいたい方ですか？","はい","いいえ","両方",null,"はい","いいえ","両方"]
[31,3,"憂鬱な気分や悲しい気持ちになることがよくありますか？","はい","いいえ","両方",null,"はい","いいえ","両方"]
[33,4,"ミスに寛大ですか？","はい","いいえ","両方",null,"はい","いいえ","両方"]
[38,5,"嘘は上手いと思いますか？","はい","いいえ","両方",null,"はい","いいえ","両方"]
[43,6,"失敗しても懲りない方だと思いますか？","はい","いいえ","両方",null,"はい","いいえ","両方"]
[45,7,"損得を考える方ですか？","はい","いいえ","両方",null,"はい","いいえ","両方"]
[52,8,"電車で席を譲る方ですか？","はい","いいえ","両方",null,"はい","いいえ","両方"]
[58,9,"電車などで子供がふざけたり、はしゃいだりするのを放っておけますか？","はい","いいえ","両方",null,"はい","いいえ","両方"]
[60,10,"上の人のごきげんをとるようなところがありますか？","はい","いいえ","両方",null,"はい","いいえ","両方"]
[61,11,"だまされやすいと思いますか？","はい","いいえ","両方",null,"はい","いいえ","両方"]
[69,12,"対立しても冷静に話し合おうとしますか？","はい","いいえ","両方",null,"はい","いいえ","両方"]
[80,13,"1,000円拾ったら交番に届けますか？","はい","いいえ","両方",null,"はい","いいえ","両方"]
[83,14,"小さな不正でも許せない方ですか？","はい","いいえ","両方",null,"はい","いいえ","両方"]
[104,15,"スケジュールを作ったら計画通りに進める方ですか？","はい","いいえ","両方",null,"はい","いいえ","両方"]
[120,16,"疑問な点を放置できない方ですか？","はい","いいえ","両方",null,"はい","いいえ","両方"]
[122,17,"叱るよりも、ほめる方ですか？","はい","いいえ","両方",null,"はい","いいえ","両方"]
[124,18,"人が元気をなくしていると、慰める方ですか？","はい","いいえ","両方",null,"はい","いいえ","両方"]
[131,19,"欲しくても、じっと我慢する方だ","はい","いいえ","両方",null,"はい","いいえ","両方"]
[132,20,"目上に対しても言いたいことは言う方ですか？","はい","いいえ","両方",null,"はい","いいえ","両方"]
[136,21,"感情的になることは少ない方ですか？","はい","いいえ","両方",null,"はい","いいえ","両方"]
[140,22,"劣等感が強い方ですか？","はい","いいえ","両方",null,"はい","いいえ","両方"]
[141,23,"我慢強いと思いますか？","はい","いいえ","両方",null,"はい","いいえ","両方"]
[142,24,"悪のりする方ですか？","はい","いいえ","両方",null,"はい","いいえ","両方"]
[162,25,"衝動買いはしない方だと思いますか？","はい","いいえ","両方",null,"はい","いいえ","両方"]
[169,26,"あけっぴろげだと思いますか？","はい","いいえ","両方",null,"はい","いいえ","両方"]
[172,27,"厳しく教育したほうが本人のためになると思いますか？","はい","いいえ","両方",null,"はい","いいえ","両方"]
[181,28,"他人に対しても責任感を求める方ですか？","はい","いいえ","両方",null,"はい","いいえ","両方"]
[188,29,"目下の意見をよく聴く方ですか？","はい","いいえ","両方",null,"はい","いいえ","両方"]
[190,30,"直感で判断する方ですか？","はい","いいえ","両方",null,"はい","いいえ","両方"]
[195,31,"駐車違反、スピード違反などはしない方ですか？","はい","いいえ","両方",null,"はい","いいえ","両方"]
[199,32,"やりだしたら最後までやらないと気が済まない方ですか？","はい","いいえ","両方",null,"はい","いいえ","両方"]
[218,33,"友達や恋人との待ち合わせには遅れない方ですか？","はい","いいえ","両方",null,"はい","いいえ","両方"]
[232,34,"自分より若い世代は自分より甘やかされて育っていると思いますか？","はい","いいえ","両方",null,"はい","いいえ","両方"]
[263,35,"目標があって、その実現に向かって努力していますか？","はい","いいえ","両方",null,"はい","いいえ","両方"]
[266,36,"ちょっとしたことでもはしゃいでしまうことがありますか？","はい","いいえ","両方",null,"はい","いいえ","両方"]
[267,37,"物事にこだわる方ですか？","はい","いいえ","両方",null,"はい","いいえ","両方"]
[269,38,"怒りっぽい方ですか？","はい","いいえ","両方",null,"はい","いいえ","両方"]
[283,39,"責任感は強いと思いますか？","はい","いいえ","両方",null,"はい","いいえ","両方"]
[293,40,"目下、目上ということにこだわりますか？","はい","いいえ","両方",null,"はい","いいえ","両方"]
[296,41,"気分の変化が激しいと思いますか？","はい","いいえ","両方",null,"はい","いいえ","両方"]
[302,42,"マンガの本は好きですか？","はい","いいえ","両方",null,"はい","いいえ","両方"]
[304,43,"テキパキしている方ですか？","はい","いいえ","両方",null,"はい","いいえ","両方"]
[313,44,"人から道を聞かれたら親切に教えてあげる方ですか？","はい","いいえ","両方",null,"はい","いいえ","両方"]
[326,45,"人に反対されると、自分の考えを引っこめる方ですか？","はい","いいえ","両方",null,"はい","いいえ","両方"]
[334,46,"おいしい店があると聞けば行ってみないと気が済まない方ですか？","はい","いいえ","両方",null,"はい","いいえ","両方"]
[347,47,"「わあ」「すごい」などの感嘆詞をよく使いますか？","はい","いいえ","両方",null,"はい","いいえ","両方"]
[354,48,"人と話していて、むきになることが少ないと思いますか？","はい","いいえ","両方",null,"はい","いいえ","両方"]
[370,49,"目標を掲げたり、自分にノルマを課したりする方ですか？","はい","いいえ","両方",null,"はい","いいえ","両方"]
[371,50,"他人からよく思われようと努める方ですか？","はい","いいえ","両方",null,"はい","いいえ","両方"]
[374,51,"消極的な方ですか？","はい","いいえ","両方",null,"はい","いいえ","両方"]
[375,52,"友人、恋人とけんかする事が少ない方ですか？","はい","いいえ","両方",null,"はい","いいえ","両方"]
[378,53,"要領がいい方ですか？","はい","いいえ","両方",null,"はい","いいえ","両方"]
[379,54,"型にはめられるのは自分には合わないと思いますか？","はい","いいえ","両方",null,"はい","いいえ","両方"]
[380,55,"今「本当の自分」から離れているように感じていますか？","はい","いいえ","両方",null,"はい","いいえ","両方"]
[381,56,"「すべきだ」「ねばならない」という言葉をよく使ったり、考えたりしますか？","はい","いいえ","両方",null,"はい","いいえ","両方"]
[382,57,"途方にくれることがよくありますか？","はい","いいえ","両方",null,"はい","いいえ","両方"]
[394,58,"頼まれたらいやと言えない方ですか？","はい","いいえ","両方",null,"はい","いいえ","両方"]
[409,59,"人情よりも論理だと思いますか？","はい","いいえ","両方",null,"はい","いいえ","両方"]
[422,60,"要領は悪い方だと思いますか？","はい","いいえ","両方",null,"はい","いいえ","両方"]
[449,61,"何か分からないことは相談する方ですか？","はい","いいえ","両方",null,"はい","いいえ","両方"]
[469,62,"友人や恋人に何か買ってあげたり、ごちそうしたりするのは好きですか？","はい","いいえ","両方",null,"はい","いいえ","両方"]
[472,63,"後輩や部下の面倒をよく見る方だと思いますか？","はい","いいえ","両方",null,"はい","いいえ","両方"]
[478,64,"すぐ情にほだされてしまう方ですか？","はい","いいえ","両方",null,"はい","いいえ","両方"]
[481,65,"義理と人情はいいものだと思いますか？","はい","いいえ","両方",null,"はい","いいえ","両方"]
[482,66,"辛い時、我慢してしまうことが多いですか？","はい","いいえ","両方",null,"はい","いいえ","両方"]
[483,67,"人の話はよく聴く方ですか？","はい","いいえ","両方",null,"はい","いいえ","両方"]
[501,68,"怒る前に事情を調べる方ですか？","はい","いいえ","両方",null,"はい","いいえ","両方"]
[512,69,"出たとこ勝負はしない方だと思いますか？","はい","いいえ","両方",null,"はい","いいえ","両方"]
[523,70,"思ったことを言えず、あとから後悔することがよくありますか？","はい","いいえ","両方",null,"はい","いいえ","両方"]
[527,71,"いろいろと意見を聞いたり調べたりしてから意思決定する方ですか？","はい","いいえ","両方",null,"はい","いいえ","両方"]
[528,72,"まったくの他人のことでも同情してしまう方ですか？","はい","いいえ","両方",null,"はい","いいえ","両方"]
[533,73,"よく考えて行動する方ですか？","はい","いいえ","両方",null,"はい","いいえ","両方"]
[627,74,"ボランティアが好き、あるいは機会があったらぜひ参加したいと思いますか？","はい","いいえ","両方",null,"はい","いいえ","両方"]
[628,75,"他人の悪いところよりもいいところが目につく方ですか？","はい","いいえ","両方",null,"はい","いいえ","両方"]

{"sheet":"Critical Parent","index":7,"n_rows":31,"n_cols":9,"rows_kept":31,"merged":[[0,2,0,4],[0,6,0,8]]}
[null,"質問","今の私",{"$nulls":3},"相手"]
[1,"後輩や友人が間違ったことをしたとき、すぐに咎めますか？","はい","いいえ","両方",null,"はい","いいえ","両方"]
[2,"規則は厳格に守る方ですか？","はい","いいえ","両方",null,"はい","いいえ","両方"]
[3,"自分より若い世代は自分より甘やかされて育っていると思いますか？","はい","いいえ","両方",null,"はい","いいえ","両方"]
[4,"あなたは礼儀、作法にうるさいほうですか？","はい","いいえ","両方",null,"はい","いいえ","両方"]
[5,"やりだしたら最後までやらないと気が済まない方ですか？","はい","いいえ","両方",null,"はい","いいえ","両方"]
[6,"責任感は強いと思いますか？","はい","いいえ","両方",null,"はい","いいえ","両方"]
[7,"小さな不正でも許せない方ですか？","はい","いいえ","両方",null,"はい","いいえ","両方"]
[8,"時間やお金にルーズなのは許せない方ですか？","はい","いいえ","両方",null,"はい","いいえ","両方"]
[9,"よい、悪いをはっきりさせたい方ですか？","はい","いいえ","両方",null,"はい","いいえ","両方"]
[10,"約束の時間は厳守する方ですか？","はい","いいえ","両方",null,"はい","いいえ","両方"]
[11,"他人に対しても責任感を求める方ですか？","はい","いいえ","両方",null,"はい","いいえ","両方"]
[12,"上司の命令でも不正なことは断れると思いますか？","はい","いいえ","両方",null,"はい","いいえ","両方"]
[13,"厳しく教育したほうが本人のためになると思いますか？","はい","いいえ","両方",null,"はい","いいえ","両方"]
[14,"目標を掲げたり、自分にノルマを課したりする方ですか？","はい","いいえ","両方",null,"はい","いいえ","両方"]
[15,"「すべきだ」「ねばならない」という言葉をよく使ったり、考えたりしますか？","はい","いいえ","両方",null,"はい","いいえ","両方"]
[16,"1,000円拾ったら交番に届けますか？","はい","いいえ","両方",null,"はい","いいえ","両方"]
[17,"駐車違反、スピード違反などはしない方ですか？","はい","いいえ","両方",null,"はい","いいえ","両方"]
[18,"友達や恋人との待ち合わせには遅れない方ですか？","はい","いいえ","両方","はい","はい","いいえ","両方"]
[19,"目標があって、その実現に向かって努力していますか？","はい","いいえ","両方",null,"はい","いいえ","両方"]
[20,"他人の欠点が目につく方ですか？","はい","いいえ","両方",null,"はい","いいえ","両方"]
[21,"目下、目上ということにこだわりますか？","はい","いいえ","両方",null,"はい","いいえ","両方"]
[22,"頑固だと思いますか？","はい","いいえ","両方",null,"はい","いいえ","両方"]
[23,"スケジュールを作ったら計画通りに進める方ですか？","はい","いいえ","両方",null,"はい","いいえ","両方"]
[24,"いいかげんな人は非常に気になる方ですか？","はい","いいえ","両方",null,"はい","いいえ","両方"]
[25,"つい命令口調になることがありますか？","はい","いいえ","両方",null,"はい","いいえ","両方"]
[26,"人の言葉をさえぎって自分の考えを言ってしまうことがよくありますか？","はい","いいえ","両方",null,"はい","いいえ","両方"]
[27,"自分が正しいと感じたことは人にもやってもらいたい方ですか？","はい","いいえ","両方",null,"はい","いいえ","両方"]
[28,"割り込みをした人に注意する方ですか？","はい","いいえ","両方",null,"はい","いいえ","両方"]
[29,"友人を批判してしまうことがよくありますか？","はい","いいえ","両方",null,"はい","いいえ","両方"]
[30,"権利より義務だと思いますか？","はい","いいえ","両方",null,"はい","いいえ","両方"]

{"sheet":"Nurturing Parent","index":8,"n_rows":31,"n_cols":14,"rows_kept":31,"merged":[[0,2,0,4],[0,6,0,8]]}
[null,"質問","今の私",{"$nulls":3},"相手"]
[1,"人から道を聞かれたら親切に教えてあげる方ですか？","はい","いいえ","両方",null,"はい","いいえ","両方",null,643,"NP",0,2]
[2,"頼まれたらいやと言えない方ですか？","はい","いいえ","両方",null,"はい","いいえ","両方",null,670,"NP",1,2]
[3,"友人や恋人に何か買ってあげたり、ごちそうしたりするのは好きですか？","はい","いいえ","両方",null,"はい","いいえ","両方",null,706,"NP",1,2]
[4,"後輩や目下の者をほめることがありますか？","はい","いいえ","両方",null,"はい","いいえ","両方",null,745,"NP",0,2]
[5,"おせっかいですか？","はい","いいえ","両方",null,"はい","いいえ","両方",null,752,"NP",1,2]
[6,"友人や他の人に対して「すごい」「えらい」と思うことがよくありますか？","はい","いいえ","両方",null,"はい","いいえ","両方",null,788,"NP",0,2]
[7,"人が元気をなくしていると、慰める方ですか？","はい","いいえ","両方",null,"はい","いいえ","両方",null,792,"NP",2,2]
[8,"ミスに寛大ですか？","はい","いいえ","両方",null,"はい","いいえ","両方",null,833,"NP",0,2]
[9,"思いやりがある方だと思いますか？","はい","いいえ","両方",null,"はい","いいえ","両方",null,841,"NP",0,2]
[10,"友人がお金に困っていて、あなたに余裕があったら助けてあげたいと思いますか？","はい","いいえ","両方",null,"はい","いいえ","両方",null,853,"NP",2,2]
[11,"ビジネスでも相手の気持ちや人情は大切だと思いますか？","はい","いいえ","両方",null,"はい","いいえ","両方",null,905,"NP",0,2]
[12,"気くばりができる方だと思いますか？","はい","いいえ","両方",null,"はい","いいえ","両方",null,924,"NP",1,2]
[13,"後輩や部下が失敗した時には、かばってあげたいと思いますか？","はい","いいえ","両方",null,"はい","いいえ","両方",null,934,"NP",2,2]
[14,"後輩や部下の面倒をよく見る方だと思いますか？","はい","いいえ","両方",null,"はい","いいえ","両方",null,951,"NP",2,2]
[15,"電車で席を譲る方ですか？","はい","いいえ","両方",null,"はい","いいえ","両方"]
[16,"ボランティアが好き、あるいは機会があったらぜひ参加したいと思いますか？","はい","いいえ","両方",null,"はい","いいえ","両方"]
[17,"人の話はよく聴く方ですか？","はい","いいえ","両方",null,"はい","いいえ","両方"]
[18,"義理と人情はいいものだと思いますか？","はい","いいえ","両方",null,"はい","いいえ","両方"]
[19,"他人の悪いところよりもいいところが目につく方ですか？","はい","いいえ","両方",null,"はい","いいえ","両方"]
[20,"融通がきく方だと思いますか？","はい","いいえ","両方",null,"はい","いいえ","両方"]
[21,"料理、洗濯、掃除は苦になりませんか？","はい","いいえ","両方",null,"はい","いいえ","両方"]
[22,"人の言うことを信じてしまうタイプですか？","はい","いいえ","両方",null,"はい","いいえ","両方"]
[23,"人に甘い方ですか？","はい","いいえ","両方",null,"はい","いいえ","両方"]
[24,"すぐ情にほだされてしまう方ですか？","はい","いいえ","両方",null,"はい","いいえ","両方"]
[25,"だまされやすいと思いますか？","はい","いいえ","両方",null,"はい","いいえ","両方"]
[26,"まったくの他人のことでも同情してしまう方ですか？","はい","いいえ","両方",null,"はい","いいえ","両方"]
[27,"叱るよりも、ほめる方ですか？","はい","いいえ","両方",null,"はい","いいえ","両方"]
[28,"涙もろい方ですか？","はい","いいえ","両方",null,"はい","いいえ","両方"]
[29,"動物は好きですか？","はい","いいえ","両方",null,"はい","いいえ","両方"]
[30,"「お人好し」と言われますか？またはそう思いますか？","はい","いいえ","両方",null,"はい","いいえ","両方"]

{"sheet":"Adult","index":9,"n_rows":31,"n_cols":9,"rows_kept":31,"merged":[[0,2,0,4],[0,6,0,8]]}
[null,"質問","今の私",{"$nulls":3},"相手"]
[1,"理性的な方ですか？","はい","いいえ","両方",null,"はい","いいえ","両方"]
[2,"怒る前に事情を調べる方ですか？","はい","いいえ","両方",null,"はい","いいえ","両方"]
[3,"何か分からないことは相談する方ですか？","はい","いいえ","両方",null,"はい","いいえ","両方"]
[4,"テキパキしている方ですか？","はい","いいえ","両方",null,"はい","いいえ","両方"]
[5,"本をよく読む方ですか？","はい","いいえ","両方",null,"はい","いいえ","両方"]
[6,"感情的になることは少ない方ですか？","はい","いいえ","両方",null,"はい","いいえ","両方"]
[7,"よく考えて行動する方ですか？","はい","いいえ","両方",null,"はい","いいえ","両方"]
[8,"損得を考える方ですか？","はい","いいえ","両方",null,"はい","いいえ","両方"]
[9,"体調がすぐれない時は無理しない方ですか？","はい","いいえ","両方",null,"はい","いいえ","両方"]
[10,"対立しても冷静に話し合おうとしますか？","はい","いいえ","両方",null,"はい","いいえ","両方"]
[11,"いろいろと意見を聞いたり調べたりしてから意思決定する方ですか？","はい","いいえ","両方",null,"はい","いいえ","両方"]
[12,"要領がいい方ですか？","はい","いいえ","両方",null,"はい","いいえ","両方"]
[13,"自分にも会社にも利益のない仕事はしない方だと思いますか？","はい","いいえ","両方",null,"はい","いいえ","両方"]
[14,"目下の意見をよく聴く方ですか？","はい","いいえ","両方",null,"はい","いいえ","両方"]
[15,"論理的に考える方だと思いますか？","はい","いいえ","両方",null,"はい","いいえ","両方"]
[16,"家事、仕事などを能率的にこなしていく方ですか？","はい","いいえ","両方",null,"はい","いいえ","両方"]
[17,"友人、恋人とけんかする事が少ない方ですか？","はい","いいえ","両方",null,"はい","いいえ","両方"]
[18,"メニューを決めるのは早い方ですか？","はい","いいえ","両方",null,"はい","いいえ","両方"]
[19,"何でもよく考えてから決める方ですか？","はい","いいえ","両方",null,"はい","いいえ","両方"]
[20,"判断は事実に基づいてしますか？","はい","いいえ","両方",null,"はい","いいえ","両方"]
[21,"決めれば決断は速い方ですか？","はい","いいえ","両方",null,"はい","いいえ","両方"]
[22,"予測して行動する方ですか？","はい","いいえ","両方",null,"はい","いいえ","両方"]
[23,"観察は得意ですか？","はい","いいえ","両方",null,"はい","いいえ","両方"]
[24,"計画をたててから実行する方ですか？","はい","いいえ","両方",null,"はい","いいえ","両方"]
[25,"４．疑問な点を放置できない方ですか？","はい","いいえ","両方",null,"はい","いいえ","両方"]
[26,"数字やデータをあげて話をするのが得意ですか？","はい","いいえ","両方",null,"はい","いいえ","両方"]
[27,"人情よりも論理だと思いますか？","はい","いいえ","両方",null,"はい","いいえ","両方"]
[28,"出たとこ勝負はしない方だと思いますか？","はい","いいえ","両方",null,"はい","いいえ","両方"]
[29,"人と話していて、むきになることが少ないと思いますか？","はい","いいえ","両方",null,"はい","いいえ","両方"]
[30,"衝動買いはしない方だと思いますか？","はい","いいえ","両方",null,"はい","いいえ","両方"]

{"sheet":"Free Child","index":10,"n_rows":31,"n_cols":9,"rows_kept":31,"merged":[[0,2,0,4],[0,6,0,8]]}
[null,"質問","今の私",{"$nulls":3},"相手"]
[1,"嬉しいときや悲しいときに、すぐ顔に出る方ですか？","はい","いいえ","両方",null,"はい","いいえ","両方"]
[2,"冗談をよく言う方ですか？","はい","いいえ","両方",null,"はい","いいえ","両方"]
[3,"言いたいことを言える性格ですか？","はい","いいえ","両方",null,"はい","いいえ","両方"]
[4,"電車などで子供がふざけたり、はしゃいだりするのを放っておけますか？","はい","いいえ","両方",null,"はい","いいえ","両方"]
[5,"欲しい物は、手に入れないと気がすまない方ですか？","はい","いいえ","両方",null,"はい","いいえ","両方"]
[6,"映画や演劇をよく観に行きますか、または行きたいと思いますか？","はい","いいえ","両方",null,"はい","いいえ","両方"]
[7,"われを忘れて遊ぶことがありますか？","はい","いいえ","両方",null,"はい","いいえ","両方"]
[8,"マンガの本は好きですか？","はい","いいえ","両方",null,"はい","いいえ","両方"]
[9,"「わあ」「すごい」などの感嘆詞をよく使いますか？","はい","いいえ","両方",null,"はい","いいえ","両方"]
[10,"アイデアはよく思いつける方ですか？","はい","いいえ","両方",null,"はい","いいえ","両方"]
[11,"好奇心は強い方だと思いますか？","はい","いいえ","両方",null,"はい","いいえ","両方"]
[12,"目上に対しても言いたいことは言う方ですか？","はい","いいえ","両方",null,"はい","いいえ","両方"]
[13,"悪のりする方ですか？","はい","いいえ","両方",null,"はい","いいえ","両方"]
[14,"わがままな方だと思いますか？","はい","いいえ","両方",null,"はい","いいえ","両方"]
[15,"涙もろかったり、怒りっぽかったり、感情が表に出やすい方ですか？","はい","いいえ","両方",null,"はい","いいえ","両方"]
[16,"おいしい店があると聞けば行ってみないと気が済まない方ですか？","はい","いいえ","両方",null,"はい","いいえ","両方"]
[17,"直感で判断する方ですか？","はい","いいえ","両方",null,"はい","いいえ","両方"]
[18,"怒りっぽい方ですか？","はい","いいえ","両方",null,"はい","いいえ","両方"]
[19,"あけっぴろげだと思いますか？","はい","いいえ","両方",null,"はい","いいえ","両方"]
[20,"ちょっとしたことでもはしゃいでしまうことがありますか？","はい","いいえ","両方",null,"はい","いいえ","両方"]
[21,"自由奔放だと思いますか？","はい","いいえ","両方",null,"はい","いいえ","両方"]
[22,"気分の変化が激しいと思いますか？","はい","いいえ","両方",null,"はい","いいえ","両方"]
[23,"気にくわないと、いじわるをする方ですか？","はい","いいえ","両方",null,"はい","いいえ","両方"]
[24,"遊びの雰囲気に、すぐ溶け込める方ですか？","はい","いいえ","両方",null,"はい","いいえ","両方"]
[25,"嘘は上手いと思いますか？","はい","いいえ","両方",null,"はい","いいえ","両方"]
[26,"負けん気ですか？","はい","いいえ","両方",null,"はい","いいえ","両方"]
[27,"やんちゃだと思いますか？","はい","いいえ","両方",null,"はい","いいえ","両方"]
[28,"ちょっと遠慮が足りないと思いますか？","はい","いいえ","両方",null,"はい","いいえ","両方"]
[29,"自由で、のびのびしていると思いますか？","はい","いいえ","両方",null,"はい","いいえ","両方"]
[30,"失敗しても懲りない方だと思いますか？","はい","いいえ","両方",null,"はい","いいえ","両方"]

{"sheet":"Adapted Child","index":11,"n_rows":32,"n_cols":9,"rows_kept":32,"merged":[[0,2,0,4],[0,6,0,8]]}
[null,"質問","今の私",{"$nulls":3},"相手"]
[1,"消極的な方ですか？","はい","いいえ","両方",null,"はい","いいえ","両方"]
[2,"思ったことを言えず、あとから後悔することがよくありますか？","はい","いいえ","両方",null,"はい","いいえ","両方"]
[3,"他人からよく思われようと努める方ですか？","はい","いいえ","両方",null,"はい","いいえ","両方"]
[4,"劣等感が強い方ですか？","はい","いいえ","両方",null,"はい","いいえ","両方"]
[5,"物事にこだわる方ですか？","はい","いいえ","両方",null,"はい","いいえ","両方"]
[6,"他人の顔色を見て行動するようなところがありますか？","はい","いいえ","両方",null,"はい","いいえ","両方"]
[7,"自分の考えより、親や人の言うことに影響されやすい方ですか？","はい","いいえ","両方",null,"はい","いいえ","両方"]
[8,"上の人のごきげんをとるようなところがありますか？","はい","いいえ","両方",null,"はい","いいえ","両方"]
[9,"嫌なことを嫌と言えずに、抑えてしまうことが多い方ですか？","はい","いいえ","両方",null,"はい","いいえ","両方"]
[10,"憂鬱な気分や悲しい気持ちになることがよくありますか？","はい","いいえ","両方",null,"はい","いいえ","両方"]
[11,"型にはめられるのは自分には合わないと思いますか？","はい","いいえ","両方",null,"はい","いいえ","両方"]
[12,"仕事を頼まれるとイヤとはなかなか言えない方ですか？","はい","いいえ","両方",null,"はい","いいえ","両方"]
[13,"妥協することが多いですか？","はい","いいえ","両方",null,"はい","いいえ","両方"]
[14,"受けはいい方だと思いますか？","はい","いいえ","両方",null,"はい","いいえ","両方"]
[15,"辛い時、我慢してしまうことが多いですか？","はい","いいえ","両方",null,"はい","いいえ","両方"]
[16,"周りが自分のことをどう思っているのか気になる方ですか？","はい","いいえ","両方",null,"はい","いいえ","両方"]
[17,"恋人、友人と意見が合わないときでも、相手に合わせる方だと思いますか？","はい","いいえ","両方",null,"はい","いいえ","両方"]
[18,"思っていることを口に出せない性格ですか？","はい","いいえ","両方",null,"はい","いいえ","両方"]
[19,"人から気に入られたいと思いますか？","はい","いいえ","両方",null,"はい","いいえ","両方"]
[20,"他人の期待に沿うよう、無理をすることがありますか？","はい","いいえ","両方",null,"はい","いいえ","両方"]
[21,"今「本当の自分」から離れているように感じていますか？","はい","いいえ","両方",null,"はい","いいえ","両方"]
[22,"ふんぎりがつかないことが多い方ですか？","はい","いいえ","両方",null,"はい","いいえ","両方"]
[23,"人に対して遠慮がちであると思いますか？","はい","いいえ","両方",null,"はい","いいえ","両方"]
[24,"挫折感を味わうことが多いと思いますか？","はい","いいえ","両方",null,"はい","いいえ","両方"]
[25,"要領は悪い方だと思いますか？","はい","いいえ","両方",null,"はい","いいえ","両方"]
[26,"途方にくれることがよくありますか？","はい","いいえ","両方",null,"はい","いいえ","両方"]
[27,"人に反対されると、自分の考えを引っこめる方ですか？","はい","いいえ","両方",null,"はい","いいえ","両方"]
[28,"我慢強いと思いますか？","はい","いいえ","両方",null,"はい","いいえ","両方"]
[29,"腹が立っても言い返せない方ですか？","はい","いいえ","両方",null,"はい","いいえ","両方"]
[30,"８．欲しくても、じっと我慢する方だ","はい","いいえ","両方",null,"はい","いいえ","両方"]
[null,null,"はい","いいえ","両方",null,"はい","いいえ","両方"]

{"sheet":"Sheet2","index":12,"n_rows":29,"n_cols":3,"rows_kept":29,"merged":[[22,1,22,2]]}
["ＣＰ＝厳しい心。正義感が強く理想に燃える心。"]
["ＮＰ＝愛性の心。優しく保護する心。"]
["　Ａ＝大人の心。冷静に分析する理知的な心。"]
["ＦＣ＝自由な心。天真爛漫で無邪気な心。"]
["ＡＣ＝順応する心。いい子を演じようとする心。"]
[]
[]
[]
["だれでも持っている５つの心（自我状態）"]
["　　　　　　Ｐ","ＣＰ　Ｃｒｉｔｉｃａｌ Ｐａｒｅｎｔｏ","ＮＰ　Ｎｕｒｔｕｒｉｎｇ Ｐａｒｅｎｔ"]
["　　　　　（Ｐａｒｅｎｔ）","理想をかかげる。責任感が強い。","思いやりがある。世話好き。やさしい。"]
["親や親の役割の人が","ルールや規則を守る。厳格である。","奉仕精神がある。受容的である。"]
["感じ、考え行動した、その時の親や","批判的である。完全主義。","同情しやすい。"]
["親の役割の人の心をまねた心","いわゆる「批判的な親」「父親的親」　","人に過度に干渉し、お節介の面も。"]
[null,"の心。","人を甘やかしすぎたり、自主性を奪う。"]
[null,null,"いわゆる「養育的な親」「母親的な親」　"]
[null,null,"の心。"]
["　　　　　　　　　Ａ","Ａ 　Ａｄｕｌｔ"]
["　　　　　　　（Ａｄｕｌｔ）"]
["今、ここでの出来事やものごとや","現実的である。事実を重視する。冷静沈着。客観性を重視する。"]
["相手に対して、大人になった自分","効率的に行動する。いわゆる「大人」の心。"]
["として、適切に考え、感じ、"]
["行動する心"]
["　　　　　　　　　Ｃ","ＡＣ　Ａｄａｐｔｅｄ Ｃｈｉｌｄ","ＦＣ 　Ｆｒｅｅ Ｃｈｉｌｄ"]
["　　　　　　　（Ｃｈｉｌｄ）","強調性があり、素直。自己主張が","自由奔放。感情をストレートに表現する。"]
["自分が子どものときに、","少ない。遠慮がちである。人の評価","好奇心があり、チャレンジ精神も旺盛。"]
["感じ、考え、行動した方法で、","を気にする。依存心が強く、人に頼","創造的である。自己中心でわがまま。"]
["感じ、考え、行動する心","る。よい子としてふるまう。いわゆる","活動的である。いわゆる「自由な子ども」"]
[null,"「順応した子ども」の心。","の心。"]